BEGIN:VCALENDAR
VERSION:2.0
PRODID:-//Melchow - ECPv6.15.12.2//NONSGML v1.0//EN
CALSCALE:GREGORIAN
METHOD:PUBLISH
X-ORIGINAL-URL:https://upgrade.melchow.de
X-WR-CALDESC:Veranstaltungen für Melchow
REFRESH-INTERVAL;VALUE=DURATION:PT1H
X-Robots-Tag:noindex
X-PUBLISHED-TTL:PT1H
BEGIN:VTIMEZONE
TZID:Europe/Berlin
BEGIN:DAYLIGHT
TZOFFSETFROM:+0100
TZOFFSETTO:+0200
TZNAME:CEST
DTSTART:20240331T010000
END:DAYLIGHT
BEGIN:STANDARD
TZOFFSETFROM:+0200
TZOFFSETTO:+0100
TZNAME:CET
DTSTART:20241027T010000
END:STANDARD
BEGIN:DAYLIGHT
TZOFFSETFROM:+0100
TZOFFSETTO:+0200
TZNAME:CEST
DTSTART:20250330T010000
END:DAYLIGHT
BEGIN:STANDARD
TZOFFSETFROM:+0200
TZOFFSETTO:+0100
TZNAME:CET
DTSTART:20251026T010000
END:STANDARD
BEGIN:DAYLIGHT
TZOFFSETFROM:+0100
TZOFFSETTO:+0200
TZNAME:CEST
DTSTART:20260329T010000
END:DAYLIGHT
BEGIN:STANDARD
TZOFFSETFROM:+0200
TZOFFSETTO:+0100
TZNAME:CET
DTSTART:20261025T010000
END:STANDARD
END:VTIMEZONE
BEGIN:VEVENT
DTSTART;TZID=Europe/Berlin:20251103T190000
DTEND;TZID=Europe/Berlin:20251103T194500
DTSTAMP:20260420T032230
CREATED:20251125T170007Z
LAST-MODIFIED:20251125T170007Z
UID:5290-1762196400-1762199100@upgrade.melchow.de
SUMMARY:Kultur- und Sozialausschuss der GV der Gemeinde Melchow
DESCRIPTION:Tagesordnungspunkte \n\n\n\n\nI.\nÖffentlicher Teil\n\n\n1.\nEröffnung der Sitzung\n\n\n2.\nFeststellung der ordnungsgemäßen Ladung\, der Anwesenheit und der Beschlussfähigkeit\n\n\n3.\nBeschlussfassung über Einwendungen gegen die Niederschrift des öffentlichen Teils der vorangegangenen Sitzung vom 06.10.2025\n\n\n4.\nFeststellung der Tagesordnung\n\n\n5.\nInformationen des Vorsitzenden des Kultur- und Sozialausschusses\n\n\n6.\nInformationen der Amtsverwaltung\n\n\n7.\nEinwohnerfragestunde\n\n\n8.\nInformationen und Beratung Sitzungstermine 2026 \nSitzungstermine  2026 KSA Melchow (exportiert: 28.10.2025) (83 KB) \n\n\n\n9.\nInformationen und Beratung Spieleabend Skat und Rommè 08.11.2025\n\n\n10.\nInformationen und Beratung zur Seniorenweihnachtsfeier\n\n\n11.\nAnfragen und Anregungen der Mitglieder des Kultur- und Sozialausschusses\n\n\nQuelle: Ratsinformationssytem des Amt Biesenthal
URL:https://upgrade.melchow.de/event/kultur-und-sozialausschuss-der-gv-der-gemeinde-melchow-22/
LOCATION:TBZ – Touristisches Begegnungszentrum „Lindengarten“\, Eberswalder Str. 9\, Melchow\, 16230\, Germany
CATEGORIES:Ausschusssitzung,Sitzungen
END:VEVENT
BEGIN:VEVENT
DTSTART;TZID=Europe/Berlin:20251103T190000
DTEND;TZID=Europe/Berlin:20251103T203000
DTSTAMP:20260420T032230
CREATED:20251028T110018Z
LAST-MODIFIED:20251028T110018Z
UID:3090-1762196400-1762201800@upgrade.melchow.de
SUMMARY:Kultur- und Sozialausschuss der GV der Gemeinde Melchow
DESCRIPTION:Tagesordnungspunkte \n\n\n\n\nI.\nÖffentlicher Teil\n\n\n1.\nEröffnung der Sitzung\n\n\n2.\nFeststellung der ordnungsgemäßen Ladung\, der Anwesenheit und der Beschlussfähigkeit\n\n\n3.\nBeschlussfassung über Einwendungen gegen die Niederschrift des öffentlichen Teils der vorangegangenen Sitzung vom 06.10.2025\n\n\n4.\nFeststellung der Tagesordnung\n\n\n5.\nInformationen des Vorsitzenden des Kultur- und Sozialausschusses\n\n\n6.\nInformationen der Amtsverwaltung\n\n\n7.\nEinwohnerfragestunde\n\n\n8.\nInformationen und Beratung Sitzungstermine 2026 \nSitzungstermine  2026 KSA Melchow (exportiert: 28.10.2025) (83 KB) \n\n\n\n9.\nInformationen und Beratung Spieleabend Skat und Rommè 08.11.2025\n\n\n10.\nInformationen und Beratung zur Seniorenweihnachtsfeier\n\n\n11.\nAnfragen und Anregungen der Mitglieder des Kultur- und Sozialausschusses\n\n\nQuelle: Ratsinformationssytem des Amt Biesenthal
URL:https://upgrade.melchow.de/event/kultur-und-sozialausschuss-der-gv-der-gemeinde-melchow-10/
LOCATION:TBZ – Touristisches Begegnungszentrum „Lindengarten“\, Eberswalder Str. 9\, Melchow\, 16230\, Germany
CATEGORIES:Ausschusssitzung,Sitzungen
END:VEVENT
END:VCALENDAR