BEGIN:VCALENDAR
VERSION:2.0
PRODID:-//Melchow - ECPv6.15.12.2//NONSGML v1.0//EN
CALSCALE:GREGORIAN
METHOD:PUBLISH
X-ORIGINAL-URL:https://upgrade.melchow.de
X-WR-CALDESC:Veranstaltungen für Melchow
REFRESH-INTERVAL;VALUE=DURATION:PT1H
X-Robots-Tag:noindex
X-PUBLISHED-TTL:PT1H
BEGIN:VTIMEZONE
TZID:Europe/Berlin
BEGIN:DAYLIGHT
TZOFFSETFROM:+0100
TZOFFSETTO:+0200
TZNAME:CEST
DTSTART:20240331T010000
END:DAYLIGHT
BEGIN:STANDARD
TZOFFSETFROM:+0200
TZOFFSETTO:+0100
TZNAME:CET
DTSTART:20241027T010000
END:STANDARD
BEGIN:DAYLIGHT
TZOFFSETFROM:+0100
TZOFFSETTO:+0200
TZNAME:CEST
DTSTART:20250330T010000
END:DAYLIGHT
BEGIN:STANDARD
TZOFFSETFROM:+0200
TZOFFSETTO:+0100
TZNAME:CET
DTSTART:20251026T010000
END:STANDARD
BEGIN:DAYLIGHT
TZOFFSETFROM:+0100
TZOFFSETTO:+0200
TZNAME:CEST
DTSTART:20260329T010000
END:DAYLIGHT
BEGIN:STANDARD
TZOFFSETFROM:+0200
TZOFFSETTO:+0100
TZNAME:CET
DTSTART:20261025T010000
END:STANDARD
END:VTIMEZONE
BEGIN:VEVENT
DTSTART;TZID=Europe/Berlin:20251124T190000
DTEND;TZID=Europe/Berlin:20251124T194500
DTSTAMP:20260420T032230
CREATED:20251203T170010Z
LAST-MODIFIED:20251203T170010Z
UID:5499-1764010800-1764013500@upgrade.melchow.de
SUMMARY:Bauausschuss der GV der Gemeinde Melchow
DESCRIPTION:Tagesordnungspunkte \n\n\n\n\nI.\nÖffentlicher Teil\n\n\n1.\nEröffnung der Sitzung\n\n\n2.\nFeststellung der ordnungsgemäßen Ladung und der Anwesenheit\n\n\n3.\nBeschlussfassung über Einwendungen gegen die Niederschrift des öffentlichen Teils der vorangegangenen Sitzung vom 22.09.2025\n\n\n4.\nFeststellung der Tagesordnung\n\n\n5.\nInformationen des ehrenamtlichen Bürgermeisters\n\n\n6.\nInformationen der Amtsverwaltung\n\n\n7.\nEinwohnerfragestunde\n\n\n8.\nInformationen und Beratung Sitzungstermine 2026 \nSitzungstermine 2026 BAU Melchow (exportiert: 17.11.2025) (82 KB) \n\n\n\n9.\nInformationen und Beratung zur Sanierung der Heizungsanlage für die Sporthalle / TBZ\n\n\n10.\nInformationen und Beratung zur Beleuchtung „Am Ring 89d“ und „Amselweg“\n\n\n11.\nAnfragen und Anregungen der Mitglieder des Bauausschusses\n\n\nQuelle: Ratsinformationssytem des Amt Biesenthal
URL:https://upgrade.melchow.de/event/bauausschuss-der-gv-der-gemeinde-melchow-22/
LOCATION:TBZ – Touristisches Begegnungszentrum „Lindengarten“\, Eberswalder Str. 9\, Melchow\, 16230\, Germany
CATEGORIES:Ausschusssitzung,Sitzungen
END:VEVENT
BEGIN:VEVENT
DTSTART;TZID=Europe/Berlin:20251124T190000
DTEND;TZID=Europe/Berlin:20251124T220000
DTSTAMP:20260420T032230
CREATED:20251117T110010Z
LAST-MODIFIED:20251117T110010Z
UID:3092-1764010800-1764021600@upgrade.melchow.de
SUMMARY:Bauausschuss der GV der Gemeinde Melchow
DESCRIPTION:Tagesordnungspunkte \n\n\n\n\nI.\nÖffentlicher Teil\n\n\n1.\nEröffnung der Sitzung\n\n\n2.\nFeststellung der ordnungsgemäßen Ladung und der Anwesenheit\n\n\n3.\nBeschlussfassung über Einwendungen gegen die Niederschrift des öffentlichen Teils der vorangegangenen Sitzung vom 22.09.2025\n\n\n4.\nFeststellung der Tagesordnung\n\n\n5.\nInformationen des ehrenamtlichen Bürgermeisters\n\n\n6.\nInformationen der Amtsverwaltung\n\n\n7.\nEinwohnerfragestunde\n\n\n8.\nInformationen und Beratung Sitzungstermine 2026 \nSitzungstermine 2026 BAU Melchow (exportiert: 17.11.2025) (82 KB) \n\n\n\n9.\nInformationen und Beratung zur Sanierung der Heizungsanlage für die Sporthalle / TBZ\n\n\n10.\nInformationen und Beratung zur Beleuchtung „Am Ring 89d“ und „Amselweg“\n\n\n11.\nAnfragen und Anregungen der Mitglieder des Bauausschusses\n\n\nQuelle: Ratsinformationssytem des Amt Biesenthal
URL:https://upgrade.melchow.de/event/bauausschuss-der-gv-der-gemeinde-melchow-16/
LOCATION:TBZ – Touristisches Begegnungszentrum „Lindengarten“\, Eberswalder Str. 9\, Melchow\, 16230\, Germany
CATEGORIES:Ausschusssitzung,Sitzungen
END:VEVENT
END:VCALENDAR