BEGIN:VCALENDAR
VERSION:2.0
PRODID:-//Melchow - ECPv6.15.12.2//NONSGML v1.0//EN
CALSCALE:GREGORIAN
METHOD:PUBLISH
X-WR-CALNAME:Melchow
X-ORIGINAL-URL:https://upgrade.melchow.de
X-WR-CALDESC:Veranstaltungen für Melchow
REFRESH-INTERVAL;VALUE=DURATION:PT1H
X-Robots-Tag:noindex
X-PUBLISHED-TTL:PT1H
BEGIN:VTIMEZONE
TZID:Europe/Berlin
BEGIN:DAYLIGHT
TZOFFSETFROM:+0100
TZOFFSETTO:+0200
TZNAME:CEST
DTSTART:20240331T010000
END:DAYLIGHT
BEGIN:STANDARD
TZOFFSETFROM:+0200
TZOFFSETTO:+0100
TZNAME:CET
DTSTART:20241027T010000
END:STANDARD
BEGIN:DAYLIGHT
TZOFFSETFROM:+0100
TZOFFSETTO:+0200
TZNAME:CEST
DTSTART:20250330T010000
END:DAYLIGHT
BEGIN:STANDARD
TZOFFSETFROM:+0200
TZOFFSETTO:+0100
TZNAME:CET
DTSTART:20251026T010000
END:STANDARD
BEGIN:DAYLIGHT
TZOFFSETFROM:+0100
TZOFFSETTO:+0200
TZNAME:CEST
DTSTART:20260329T010000
END:DAYLIGHT
BEGIN:STANDARD
TZOFFSETFROM:+0200
TZOFFSETTO:+0100
TZNAME:CET
DTSTART:20261025T010000
END:STANDARD
END:VTIMEZONE
BEGIN:VEVENT
DTSTART;TZID=Europe/Berlin:20250804T190000
DTEND;TZID=Europe/Berlin:20250804T203000
DTSTAMP:20260425T151354
CREATED:20250803T110459Z
LAST-MODIFIED:20250803T110459Z
UID:3085-1754334000-1754339400@upgrade.melchow.de
SUMMARY:Kultur- und Sozialausschuss der GV der Gemeinde Melchow
DESCRIPTION:Tagesordnungspunkte \n\n\n\n\nI.\nÖffentlicher Teil\n\n\n\n1.\nEröffnung der Sitzung\n\n\n\n2.\nFeststellung der ordnungsgemäßen Ladung\, der Anwesenheit und der Beschlussfähigkeit\n\n\n\n3.\nBeschlussfassung über Einwendungen gegen die Niederschrift des öffentlichen Teils der vorangegangenen Sitzung vom 07.07.2025\n\n\n\n4.\nFeststellung der Tagesordnung\n\n\n\n5.\nInformationen des Vorsitzenden des Kultur- und Sozialausschusses\n\n\n\n6.\nInformationen der Amtsverwaltung\n\n\n\n7.\nEinwohnerfragestunde\n\n\n\n8.\nBeratung und Informationen des Klappstuhltheaters\n\n\n\n9.\nBeratung und Informationen Auswertung und Vorbereitung des Senioren- Nachmittages am 14. August 2025\n\n\n\n10.\nBeratung und Informationen Dorffest 16.08.2025\n\n\n\n11.\nBeratung und Information Sitzungstermine 2026\n\nSitzungstermine KSA Mel 2026 (exportiert: 29.07.2025) (23 KB)  \n\n\n\n12.\nAnfragen und Anregungen der Mitglieder des Kultur- und Sozialausschusses\n\n\n\nQuelle: Ratsinformationssytem des Amt Biesenthal
URL:https://upgrade.melchow.de/event/kultur-und-sozialausschuss-der-gv-der-gemeinde-melchow-8/
LOCATION:TBZ – Touristisches Begegnungszentrum „Lindengarten“\, Eberswalder Str. 9\, Melchow\, 16230\, Germany
CATEGORIES:Ausschusssitzung,Sitzungen
END:VEVENT
BEGIN:VEVENT
DTSTART;TZID=Europe/Berlin:20250804T190000
DTEND;TZID=Europe/Berlin:20250804T210000
DTSTAMP:20260425T151354
CREATED:20250904T151447Z
LAST-MODIFIED:20250904T151447Z
UID:3724-1754334000-1754341200@upgrade.melchow.de
SUMMARY:Kultur- und Sozialausschuss der GV der Gemeinde Melchow
DESCRIPTION:Tagesordnungspunkte \n\n\n\n\nI.\nÖffentlicher Teil\n\n\n1.\nEröffnung der Sitzung\n\n\n2.\nFeststellung der ordnungsgemäßen Ladung\, der Anwesenheit und der Beschlussfähigkeit\n\n\n3.\nBeschlussfassung über Einwendungen gegen die Niederschrift des öffentlichen Teils der vorangegangenen Sitzung vom 07.07.2025\n\n\n4.\nFeststellung der Tagesordnung\n\n\n5.\nInformationen des Vorsitzenden des Kultur- und Sozialausschusses\n\n\n6.\nInformationen der Amtsverwaltung\n\n\n7.\nEinwohnerfragestunde\n\n\n8.\nBeratung und Informationen des Klappstuhltheaters\n\n\n9.\nBeratung und Informationen Auswertung und Vorbereitung des Senioren- Nachmittages am 14. August 2025\n\n\n10.\nBeratung und Informationen Dorffest 16.08.2025\n\n\n11.\nBeratung und Information Sitzungstermine 2026 \nSitzungstermine KSA Mel 2026 (exportiert: 29.07.2025) (23 KB) \n\n\n\n12.\nAnfragen und Anregungen der Mitglieder des Kultur- und Sozialausschusses\n\n\nQuelle: Ratsinformationssytem des Amt Biesenthal
URL:https://upgrade.melchow.de/event/kultur-und-sozialausschuss-der-gv-der-gemeinde-melchow-11/
LOCATION:TBZ – Touristisches Begegnungszentrum „Lindengarten“\, Eberswalder Str. 9\, Melchow\, 16230\, Germany
CATEGORIES:Ausschusssitzung,Sitzungen
END:VEVENT
BEGIN:VEVENT
DTSTART;TZID=Europe/Berlin:20250816T000000
DTEND;TZID=Europe/Berlin:20250816T235959
DTSTAMP:20260425T151354
CREATED:20250620T100656Z
LAST-MODIFIED:20250620T100656Z
UID:173-1755302400-1755388799@upgrade.melchow.de
SUMMARY:Dorffest
DESCRIPTION:
URL:https://upgrade.melchow.de/event/dorffest/
LOCATION:Festwiese Eberswalder Straße\, Eberswalder Straße\, Melchow\, 16230\, Germany
CATEGORIES:Veranstaltung
END:VEVENT
END:VCALENDAR