BEGIN:VCALENDAR
VERSION:2.0
PRODID:-//Melchow - ECPv6.15.12.2//NONSGML v1.0//EN
CALSCALE:GREGORIAN
METHOD:PUBLISH
X-ORIGINAL-URL:https://upgrade.melchow.de
X-WR-CALDESC:Veranstaltungen für Melchow
REFRESH-INTERVAL;VALUE=DURATION:PT1H
X-Robots-Tag:noindex
X-PUBLISHED-TTL:PT1H
BEGIN:VTIMEZONE
TZID:Europe/Berlin
BEGIN:DAYLIGHT
TZOFFSETFROM:+0100
TZOFFSETTO:+0200
TZNAME:CEST
DTSTART:20250330T010000
END:DAYLIGHT
BEGIN:STANDARD
TZOFFSETFROM:+0200
TZOFFSETTO:+0100
TZNAME:CET
DTSTART:20251026T010000
END:STANDARD
BEGIN:DAYLIGHT
TZOFFSETFROM:+0100
TZOFFSETTO:+0200
TZNAME:CEST
DTSTART:20260329T010000
END:DAYLIGHT
BEGIN:STANDARD
TZOFFSETFROM:+0200
TZOFFSETTO:+0100
TZNAME:CET
DTSTART:20261025T010000
END:STANDARD
BEGIN:DAYLIGHT
TZOFFSETFROM:+0100
TZOFFSETTO:+0200
TZNAME:CEST
DTSTART:20270328T010000
END:DAYLIGHT
BEGIN:STANDARD
TZOFFSETFROM:+0200
TZOFFSETTO:+0100
TZNAME:CET
DTSTART:20271031T010000
END:STANDARD
END:VTIMEZONE
BEGIN:VEVENT
DTSTART;TZID=Europe/Berlin:20260112T190000
DTEND;TZID=Europe/Berlin:20260112T220000
DTSTAMP:20260419T214912
CREATED:20251120T170018Z
LAST-MODIFIED:20251120T170018Z
UID:5232-1768244400-1768255200@upgrade.melchow.de
SUMMARY:Bauausschuss der GV der Gemeinde Melchow
DESCRIPTION:Link zur Tagesordnung: https://amt-biesenthal-barnim.ratsinfomanagement.net/tops/?__=UGhVM0hpd2NXNFdFcExjZb-j1ZgCIav4JiCFZtbPuBg
URL:https://upgrade.melchow.de/event/bauausschuss-der-gv-der-gemeinde-melchow-18/
LOCATION:TBZ – Touristisches Begegnungszentrum „Lindengarten“\, Eberswalder Str. 9\, Melchow\, 16230\, Germany
CATEGORIES:Ausschusssitzung,Sitzungen
END:VEVENT
BEGIN:VEVENT
DTSTART;TZID=Europe/Berlin:20260119T190000
DTEND;TZID=Europe/Berlin:20260119T220000
DTSTAMP:20260419T214912
CREATED:20251120T170021Z
LAST-MODIFIED:20251120T170021Z
UID:5233-1768849200-1768860000@upgrade.melchow.de
SUMMARY:Gemeindevertretung der Gemeinde Melchow
DESCRIPTION:Link zur Tagesordnung: https://amt-biesenthal-barnim.ratsinfomanagement.net/tops/?__=UGhVM0hpd2NXNFdFcExjZeDZIMJr-tKifbBYSwsPQKU
URL:https://upgrade.melchow.de/event/gemeindevertretung-der-gemeinde-melchow-60/
LOCATION:TBZ – Touristisches Begegnungszentrum „Lindengarten“\, Eberswalder Str. 9\, Melchow\, 16230\, Germany
CATEGORIES:Gemeindevertretersitzung,Sitzungen
END:VEVENT
BEGIN:VEVENT
DTSTART;TZID=Europe/Berlin:20260120T190000
DTEND;TZID=Europe/Berlin:20260120T203000
DTSTAMP:20260419T214912
CREATED:20251120T170026Z
LAST-MODIFIED:20251120T170026Z
UID:5234-1768935600-1768941000@upgrade.melchow.de
SUMMARY:Kultur- und Sozialausschuss der GV der Gemeinde Melchow
DESCRIPTION:Link zur Tagesordnung: https://amt-biesenthal-barnim.ratsinfomanagement.net/tops/?__=UGhVM0hpd2NXNFdFcExjZUs2_QKtZkb3bDuqwz0c1aY
URL:https://upgrade.melchow.de/event/kultur-und-sozialausschuss-der-gv-der-gemeinde-melchow-12/
LOCATION:TBZ – Touristisches Begegnungszentrum „Lindengarten“\, Eberswalder Str. 9\, Melchow\, 16230\, Germany
CATEGORIES:Ausschusssitzung,Sitzungen
END:VEVENT
END:VCALENDAR