BEGIN:VCALENDAR
VERSION:2.0
PRODID:-//Melchow - ECPv6.15.12.2//NONSGML v1.0//EN
CALSCALE:GREGORIAN
METHOD:PUBLISH
X-WR-CALNAME:Melchow
X-ORIGINAL-URL:https://upgrade.melchow.de
X-WR-CALDESC:Veranstaltungen für Melchow
REFRESH-INTERVAL;VALUE=DURATION:PT1H
X-Robots-Tag:noindex
X-PUBLISHED-TTL:PT1H
BEGIN:VTIMEZONE
TZID:Europe/Berlin
BEGIN:DAYLIGHT
TZOFFSETFROM:+0100
TZOFFSETTO:+0200
TZNAME:CEST
DTSTART:20250330T010000
END:DAYLIGHT
BEGIN:STANDARD
TZOFFSETFROM:+0200
TZOFFSETTO:+0100
TZNAME:CET
DTSTART:20251026T010000
END:STANDARD
BEGIN:DAYLIGHT
TZOFFSETFROM:+0100
TZOFFSETTO:+0200
TZNAME:CEST
DTSTART:20260329T010000
END:DAYLIGHT
BEGIN:STANDARD
TZOFFSETFROM:+0200
TZOFFSETTO:+0100
TZNAME:CET
DTSTART:20261025T010000
END:STANDARD
BEGIN:DAYLIGHT
TZOFFSETFROM:+0100
TZOFFSETTO:+0200
TZNAME:CEST
DTSTART:20270328T010000
END:DAYLIGHT
BEGIN:STANDARD
TZOFFSETFROM:+0200
TZOFFSETTO:+0100
TZNAME:CET
DTSTART:20271031T010000
END:STANDARD
END:VTIMEZONE
BEGIN:VEVENT
DTSTART;TZID=Europe/Berlin:20260202T190000
DTEND;TZID=Europe/Berlin:20260202T203000
DTSTAMP:20260419T200932
CREATED:20251120T170029Z
LAST-MODIFIED:20251120T170029Z
UID:5235-1770058800-1770064200@upgrade.melchow.de
SUMMARY:Kultur- und Sozialausschuss der GV der Gemeinde Melchow
DESCRIPTION:Link zur Tagesordnung: https://amt-biesenthal-barnim.ratsinfomanagement.net/tops/?__=UGhVM0hpd2NXNFdFcExjZfrEvqQj6hnWN_B53LW4gHo
URL:https://upgrade.melchow.de/event/kultur-und-sozialausschuss-der-gv-der-gemeinde-melchow-13/
LOCATION:TBZ – Touristisches Begegnungszentrum „Lindengarten“\, Eberswalder Str. 9\, Melchow\, 16230\, Germany
CATEGORIES:Ausschusssitzung,Sitzungen
END:VEVENT
BEGIN:VEVENT
DTSTART;TZID=Europe/Berlin:20260216T190000
DTEND;TZID=Europe/Berlin:20260216T220000
DTSTAMP:20260419T200932
CREATED:20251120T170036Z
LAST-MODIFIED:20251120T170036Z
UID:5236-1771268400-1771279200@upgrade.melchow.de
SUMMARY:Gemeindevertretung der Gemeinde Melchow
DESCRIPTION:Link zur Tagesordnung: https://amt-biesenthal-barnim.ratsinfomanagement.net/tops/?__=UGhVM0hpd2NXNFdFcExjZTGz_poH10k5zdR36P_5lLY
URL:https://upgrade.melchow.de/event/gemeindevertretung-der-gemeinde-melchow-61/
LOCATION:TBZ – Touristisches Begegnungszentrum „Lindengarten“\, Eberswalder Str. 9\, Melchow\, 16230\, Germany
CATEGORIES:Gemeindevertretersitzung,Sitzungen
END:VEVENT
BEGIN:VEVENT
DTSTART;TZID=Europe/Berlin:20260228T000000
DTEND;TZID=Europe/Berlin:20260228T235959
DTSTAMP:20260419T200932
CREATED:20251202T200735Z
LAST-MODIFIED:20251216T184825Z
UID:5462-1772236800-1772323199@upgrade.melchow.de
SUMMARY:Skat und Romée Turnier
DESCRIPTION:
URL:https://upgrade.melchow.de/event/skat-und-romee-turnier/
LOCATION:TBZ – Touristisches Begegnungszentrum „Lindengarten“\, Eberswalder Str. 9\, Melchow\, 16230\, Germany
CATEGORIES:Archiv,Veranstaltung
END:VEVENT
END:VCALENDAR