BEGIN:VCALENDAR
VERSION:2.0
PRODID:-//Melchow - ECPv6.15.12.2//NONSGML v1.0//EN
CALSCALE:GREGORIAN
METHOD:PUBLISH
X-ORIGINAL-URL:https://upgrade.melchow.de
X-WR-CALDESC:Veranstaltungen für Melchow
REFRESH-INTERVAL;VALUE=DURATION:PT1H
X-Robots-Tag:noindex
X-PUBLISHED-TTL:PT1H
BEGIN:VTIMEZONE
TZID:Europe/Berlin
BEGIN:DAYLIGHT
TZOFFSETFROM:+0100
TZOFFSETTO:+0200
TZNAME:CEST
DTSTART:20250330T010000
END:DAYLIGHT
BEGIN:STANDARD
TZOFFSETFROM:+0200
TZOFFSETTO:+0100
TZNAME:CET
DTSTART:20251026T010000
END:STANDARD
BEGIN:DAYLIGHT
TZOFFSETFROM:+0100
TZOFFSETTO:+0200
TZNAME:CEST
DTSTART:20260329T010000
END:DAYLIGHT
BEGIN:STANDARD
TZOFFSETFROM:+0200
TZOFFSETTO:+0100
TZNAME:CET
DTSTART:20261025T010000
END:STANDARD
BEGIN:DAYLIGHT
TZOFFSETFROM:+0100
TZOFFSETTO:+0200
TZNAME:CEST
DTSTART:20270328T010000
END:DAYLIGHT
BEGIN:STANDARD
TZOFFSETFROM:+0200
TZOFFSETTO:+0100
TZNAME:CET
DTSTART:20271031T010000
END:STANDARD
END:VTIMEZONE
BEGIN:VEVENT
DTSTART;TZID=Europe/Berlin:20260420T190000
DTEND;TZID=Europe/Berlin:20260420T220000
DTSTAMP:20260419T154016
CREATED:20251120T170056Z
LAST-MODIFIED:20251120T170056Z
UID:5240-1776711600-1776722400@upgrade.melchow.de
SUMMARY:Gemeindevertretung der Gemeinde Melchow
DESCRIPTION:Link zur Tagesordnung: https://amt-biesenthal-barnim.ratsinfomanagement.net/tops/?__=UGhVM0hpd2NXNFdFcExjZRJ5FGYoNtTtLoLw4EE_BjY
URL:https://upgrade.melchow.de/event/gemeindevertretung-der-gemeinde-melchow-63/
LOCATION:TBZ – Touristisches Begegnungszentrum „Lindengarten“\, Eberswalder Str. 9\, Melchow\, 16230\, Germany
CATEGORIES:Gemeindevertretersitzung,Sitzungen
END:VEVENT
BEGIN:VEVENT
DTSTART;TZID=Europe/Berlin:20260430T000000
DTEND;TZID=Europe/Berlin:20260430T235959
DTSTAMP:20260419T154016
CREATED:20251202T200943Z
LAST-MODIFIED:20251202T201106Z
UID:5464-1777507200-1777593599@upgrade.melchow.de
SUMMARY:Tanz in den Mai
DESCRIPTION:
URL:https://upgrade.melchow.de/event/tanz-in-den-mai/
LOCATION:Festwiese am Karpfenteich
CATEGORIES:Veranstaltung
END:VEVENT
END:VCALENDAR